BEGIN:VCALENDAR
VERSION:2.0
PRODID:icalendar-ruby
CALSCALE:GREGORIAN
METHOD:PUBLISH
BEGIN:VEVENT
DTSTAMP:20260421T110239Z
UID:085492cc-2203-4b29-b250-1eb7c15514e9
DTSTART:20260510T110000
DTEND:20260510T210000
DESCRIPTION:<p><span style="color: rgb(0\, 0\, 0)\;">In a land not so far a
 way\, there is a place where families go to play in an out of the ordinary
  way! From the creators of the Luxurious Marble Circus comes a new festiva
 l of FUN\, fit for EVERYONE. The Magical Marble Family Fest comes to life 
 on the 9th and 10th of May 2026 at James & Ethel Gray Park in Melrose\, Jo
 hannesburg. Another wonderfulest partnership with Investec.</span></p><p><
 span style="color: rgb(0\, 0\, 0)\;">You’ll find FOOD and MUSIC and MAGI
 C galore\, you’ll have the best laughs and make memories with your loved
  ones\, both big and small.</span></p><p><span style="color: rgb(0\, 0\, 0
 )\;">From our TINIEST TOTS to our CURIOUS TEENS\, from PARENTS to GRANDPAR
 ENTS and EVERYONE in between - every age of explorer will find a world mad
 e just for them. Little ones can play\, big kids can roam\, and grown-ups 
 can join in\, or take a seat - sip a drink\, share a laugh\, and sway to t
 he beat.</span></p><p><span style="color: rgb(0\, 0\, 0)\;">We haven't for
 gotten\, by the way\, Sunday will be Mother’s Day! So\, here's your chan
 ce to celebrate the world's best moms\, On a day filled with music and fun
  and delicious nom noms!</span></p><p><span style="color: rgb(0\, 0\, 0)\;
 ">So come one and come all\, whether you’re big or small. And ENJOY some
  fun with all the zest\, at the Magical Marble Family Fest!</span></p><p><
 span style="color: rgb(0\, 0\, 0)\;">Visit www.www.magicalmarblefamilyfest
 .com for all the details.</span></p><p><span style="color: rgb(0\, 0\, 0)\
 ;">Food and drinks on site may contain common allergens. Parents and guard
 ians are responsible for managing any allergies.</span></p><p><br></p><p><
 span style="color: rgb(0\, 0\, 0)\;">REFUND PROTECT</span></p><p><br></p><
 p><span style="color: rgb(0\, 0\, 0)\;">We offer the possibility to upgrad
 e your refund terms when you make a purchase. This will allow you to recei
 ve a 100% refund if you cannot attend for one of the many reasons. See Ter
 ms and Conditions here: https://www.refundable.me/</span></p><p><span styl
 e="color: rgb(0\, 0\, 0)\;">Requesting a Refund: To apply for a Refund\, s
 imply click on the link in Your booking confirmation email. The applicatio
 n must be completed up to 60 days after the Booking. Should you not want t
 he protection\, simply uncheck the checkbox and you will not be charged.</
 span></p><p><br></p>
LOCATION:Edgewood Avenue &\, Melrose St\, Melrose\, Johannesburg\, 2000\, S
 outh Africa
SUMMARY:The Magical Marble Family Fest | 10 May 2026
URL;VALUE=URI:https://magicalmarblefamilyfest.howler.co.za/10may
END:VEVENT
END:VCALENDAR
