BEGIN:VCALENDAR
VERSION:2.0
PRODID:icalendar-ruby
CALSCALE:GREGORIAN
METHOD:PUBLISH
BEGIN:VEVENT
DTSTAMP:20260421T082745Z
UID:e8d24162-b9b5-4212-b8df-1d58a1cb6f53
DTSTART:20260509T110000
DTEND:20260509T210000
DESCRIPTION:<p><span style="color: rgb(0\, 0\, 0)\;">In a land not so far a
 way\, there is a place where families go to play in an out of the ordinary
  way! From the creators of the Luxurious Marble Circus comes a new festiva
 l of FUN\, fit for EVERYONE. The Magical Marble Family Fest comes to life 
 on the 9th and 10th of May 2026 at James & Ethel Gray Park in Melrose\, Jo
 hannesburg. Another wonderfulest partnership with Investec.</span></p><p><
 span style="color: rgb(0\, 0\, 0)\;">You’ll find FOOD and MUSIC and MAGI
 C galore\, you’ll have the best laughs and make memories with your loved
  ones\, both big and small.</span></p><p><span style="color: rgb(0\, 0\, 0
 )\;">From our TINIEST TOTS to our CURIOUS TEENS\, from PARENTS to GRANDPAR
 ENTS and EVERYONE in between - every age of explorer will find a world mad
 e just for them. Little ones can play\, big kids can roam\, and grown-ups 
 can join in\, or take a seat - sip a drink\, share a laugh\, and sway to t
 he beat.</span></p><p><span style="color: rgb(0\, 0\, 0)\;">We haven't for
 gotten\, by the way\, Sunday will be Mother’s Day! So\, here's your chan
 ce to celebrate the world's best moms\, On a day filled with music and fun
  and delicious nom noms!</span></p><p><span style="color: rgb(0\, 0\, 0)\;
 ">So come one and come all\, whether you’re big or small. And ENJOY some
  fun with all the zest\, at the Magical Marble Family Fest!</span></p><p><
 span style="color: rgb(0\, 0\, 0)\;">Visit </span><a href="www.magicalmarb
 lefamilyfest.com" target="_blank" style="color: rgb(0\, 0\, 0)\;">www.magi
 calmarblefamilyfest.com</a><span style="color: rgb(0\, 0\, 0)\;"> for all 
 the details.</span></p><p><span style="color: rgb(0\, 0\, 0)\;">Food and d
 rinks on site may contain common allergens. Parents and guardians are resp
 onsible for managing any allergies.</span></p><p><br></p><p><span style="c
 olor: rgb(0\, 0\, 0)\;">REFUND PROTECT</span></p><p><span style="color: rg
 b(0\, 0\, 0)\;">We offer the possibility to upgrade your refund terms when
  you make a purchase. This will allow you to receive a 100% refund if you 
 cannot attend for one of the many reasons. See Terms and Conditions here: 
 </span><a href="https://www.refundable.me/" target="_blank" style="color: 
 rgb(0\, 0\, 0)\;">https://www.refundable.me/</a></p><p><span style="color:
  rgb(0\, 0\, 0)\;">Requesting a Refund: To apply for a Refund\, simply cli
 ck on the link in Your booking confirmation email. The application must be
  completed up to 60 days after the Booking. Should you not want the protec
 tion\, simply uncheck the checkbox and you will not be charged.</span></p>
LOCATION:Edgewood Avenue &\, Melrose St\, Melrose\, Johannesburg\, 2000\, S
 outh Africa
SUMMARY:The Magical Marble Family Fest | 9 May 2026
URL;VALUE=URI:https://magicalmarblefamilyfest.howler.co.za/9may
END:VEVENT
END:VCALENDAR
